Workbook
Name In_Service_Topics: '[1]Data validation'!$T$2:$T$29
Name In_Service_Topics: '[2]Data validation'!$T$2:$T$29
Name In_Service_Topics: '[2]Data validation'!$T$2:$T$29
Name In_Service_Topics: 'Data validation'!$T$2:$T$29
Name Programs: '[1]Data validation'!$U$2:$U$61
Name Programs: '[2]Data validation'!$U$2:$U$61
Name Programs: '[2]Data validation'!$U$2:$U$61
Name Programs: 'Data validation'!$U$2:$U$61

Sheet Data validation
A1: Yes/No | B1: Training area | C1: Teaching staff name list | D1: Role | E1: Positions | F1: CountPositions | G1: Role | H1: DI program training type | I1: Date range | J1: Training type | K1: Delivery | L1: Observers Position | M1: Observations | N1: Conversation Content | O1: Yes/No/NA | P1: Number per week | Q1: Months | R1: Terms and years | S1: Schools | T1: In Service Topics | U1: Programs | W1: Lit_Maths | X1: Principal Meeting type | Y1: Peer conversation
A2: Yes | B2: Topic in-service | C2: =TRIM('Staff list'!B8)&" "&TRIM('Staff list'!E8) | D2: =IF('Staff list'!F8=0,_xludf.NA,'Staff list'!F8) -> #NAME? | E2: Teacher | F2: =COUNTIF($D$2:$D$29,E2) -> 0 | G2: IC | H2: Teacher Pre-service Behaviour Training | I2: 36526 | J2: In-Service | K2: Face-to-face | L2: Peer Coach | M2: Two-minute observation | N2: Literacy | O2: Yes | P2: 0 | Q2: Unknown | R2: Term 1 2015 | S2: Alekarenge School | T2: School-wide Behaviour Management Training – Tier 2 | U2: Literacy | W2: Literacy | X2: Operational Meeting | Y2: Staff Meeting
A3: No | B3: Program training | C3: =TRIM('Staff list'!B9)&" "&TRIM('Staff list'!E9) | D3: =IF('Staff list'!F9=0,_xludf.NA,'Staff list'!F9) -> #NAME? | E3: Teaching Principal | F3: =COUNTIF($D$2:$D$29,E3) -> 0 | G3: TC | H3: DI School Leadership Training | I3: 46022 | J3: Pre-Service | K3: Online | L3: Instruction Coach | M3: Five-minute observation | N3: Numeracy | O3: No | P3: 1 | Q3: 0 | R3: Term 2 2015 | S3: Benowa State High School | T3: Peer Coach Training – A, B, C, D | U3: Comp A | V3: Maths | W3: Maths | X3: Term Review | Y3: Team Meeting
C4: =TRIM('Staff list'!B10)&" "&TRIM('Staff list'!E10) | D4: =IF('Staff list'!F10=0,_xludf.NA,'Staff list'!F10) -> #NAME? | E4: Teaching Principal & Instruction Coach | F4: =COUNTIF($D$2:$D$29,E4) -> 0 | G4: IM | H4: Teacher Pre-Service DI Program Training | J4: Pre-Implementation | K4: Self-paced | L4: Principal | M4: Extended observation | N4: Achievement | O4: N/A | P4: 2 | Q4: 1 | R4: Term 3 2015 | S4: Christ the King Catholic School | T4: Train the Trainer | U4: Comp B1 | V4: Corrective Addition | W4: Literacy & Maths | X4: Other | Y4: Other
C5: =TRIM('Staff list'!B11)&" "&TRIM('Staff list'!E11) | D5: =IF('Staff list'!F11=0,_xludf.NA,'Staff list'!F11) -> #NAME? | E5: Teaching Instruction Coach | F5: =COUNTIF($D$2:$D$29,E5) -> 0 | G5: CC | H5: Teaching Assistant Pre-Service DI Program Training | J5: Interim | L5: Teaching Coach | M5: Demonstration lesson | N5: Attendance | P5: 3 | Q5: 2 | R5: Term 4 2015 | S5: Coen | T5: Coaching Principal Training | U5: Comp B1 | V5: Corrective Subtraction | AB5: Old school list
C6: =TRIM('Staff list'!B12)&" "&TRIM('Staff list'!E12) | D6: =IF('Staff list'!F12=0,_xludf.NA,'Staff list'!F12) -> #NAME? | E6: Community Coach | F6: =COUNTIF($D$2:$D$29,E7) -> 0 | H6: DI School Leadership Interim Support Training | L6: Teaching Principal | M6: Family Engagement | N6: Behaviour | P6: 4 | Q6: 3 | R6: Term 1 2016 | S6: Hopevale | T6: Behaviour Expert Training – Tier 1 | U6: Comp B2 | V6: Corrective Multiplication | AB6: Alekarenge School
C7: =TRIM('Staff list'!B13)&" "&TRIM('Staff list'!E13) | D7: =IF('Staff list'!F13=0,_xludf.NA,'Staff list'!F13) -> #NAME? | E7: Teaching Assistant Principal | F7: =COUNTIF($D$2:$D$29,E8) -> 0 | H7: DI Program Interim Support Training | L7: Teaching Principal & Instruction Coach | M7: Influencing Conversation | N7: Boarding School | P7: 5 | Q7: 4 | R7: Term 2 2016 | S7: John Pujajangka-Piyirn Catholic School | T7: Behaviour Expert Training – Tier 2 | U7: Comp C | V7: Corrective Addition | AB7: Alyarrmandumanja Umbakumba School
C8: =TRIM('Staff list'!B14)&" "&TRIM('Staff list'!E14) | D8: =IF('Staff list'!F14=0,_xludf.NA,'Staff list'!F14) -> #NAME? | E8: Non-teaching Principal | F8: =COUNTIF($D$2:$D$29,E9) -> 0 | H8: Topic in-service | L8: Teaching Instruction Coach | M8: Strategic Conversation | N8: Certificates | P8: NA | Q8: 5 | R8: Term 3 2016 | S8: Mamaruni School | T8: Behaviour Expert Training – Tier 3 | U8: Comp B2 | V8: DISTAR | AB8: Angurugu School
C9: =TRIM('Staff list'!B15)&" "&TRIM('Staff list'!E15) | D9: =IF('Staff list'!F15=0,_xludf.NA,'Staff list'!F15) -> #NAME? | E9: Non-teaching Principal & Instruction Coach | F9: =COUNTIF($D$2:$D$29,E10) -> 0 | L9: Peer Community Coach | N9: Examples of good work | Q9: 6 | R9: Term 4 2016 | S9: Miliyakburra School | T9: Coaching Academy – 1 and 2 | U9: Comp C | V9: CMC A | AB9: Borroloola School
C10: =TRIM('Staff list'!B16)&" "&TRIM('Staff list'!E16) | D10: =IF('Staff list'!F16=0,_xludf.NA,'Staff list'!F16) -> #NAME? | E10: Non-teaching Instruction Coach | F10: =COUNTIF($D$2:$D$29,E11) -> 0 | L10: Community Coach | N10: Forms | Q10: 7 | R10: Term 1 2017 | S10: Mount Magnet District High School | T10: DI Program Interim Support Training | U10: Dec A | V10: CMC B | AB10: Christ The King Catholic School
C11: =TRIM('Staff list'!B17)&" "&TRIM('Staff list'!E17) | D11: =IF('Staff list'!F17=0,_xludf.NA,'Staff list'!F17) -> #NAME? | E11: Teaching Assistant | F11: =COUNTIF($D$2:$D$29,E12) -> 0 | L11: Implementation Manager | N11: Health and wellbeing | Q11: 8 | R11: Term 2 2017 | S11: Nganmarriyanga School | T11: DI School Leadership Training | U11: Dec A | V11: CMC C | AB11: Gapuwiyak School
C12: =TRIM('Staff list'!B18)&" "&TRIM('Staff list'!E18) | D12: =IF('Staff list'!F18=0,_xludf.NA,'Staff list'!F18) -> #NAME? | E12: Assistant Principal | N12: Invitations | Q12: 9 | R12: Term 3 2017 | S12: Ntaria School | T12: Implementation Manager Training | U12: Dec B1 | V12: CMC D | AB12: Gillen Primary School
C13: =TRIM('Staff list'!B19)&" "&TRIM('Staff list'!E19) | D13: =IF('Staff list'!F19=0,_xludf.NA,'Staff list'!F19) -> #NAME? | N13: Letters | Q13: 10 | R13: Term 4 2017 | S13: Nullagine Primary School | T13: Implementing DI Tutorial | U13: Dec B1 | V13: CMC E | AB13: Holy Rosary School
C14: =TRIM('Staff list'!B20)&" "&TRIM('Staff list'!E20) | D14: =IF('Staff list'!F20=0,_xludf.NA,'Staff list'!F20) -> #NAME? | N14: Photos | Q14: 11 | R14: Term 1 2018 | S14: St Mary Star of the Sea Catholic School | T14: Good Work Ticket System | U14: Dec B2 | V14: CMC F | AB14: Jigalong Remote Community School
C15: =TRIM('Staff list'!B21)&" "&TRIM('Staff list'!E21) | D15: =IF('Staff list'!F21=0,_xludf.NA,'Staff list'!F21) -> #NAME? | N15: Positive Engagement | Q15: 12 | R15: Term 2 2018 | S15: Tiwi College | T15: Pacing | U15: Dec B2 | AB15: John Pujajangka-Piyirn Catholic School
C16: =TRIM('Staff list'!B22)&" "&TRIM('Staff list'!E22) | D16: =IF('Staff list'!F22=0,_xludf.NA,'Staff list'!F22) -> #NAME? | N16: Postcard | Q16: 13 | R16: Term 3 2018 | S16: Varsity College | T16: Student Test Summary | U16: Dec C | AB16: Kulkarriya Community School
C17: =TRIM('Staff list'!B23)&" "&TRIM('Staff list'!E23) | D17: =IF('Staff list'!F23=0,_xludf.NA,'Staff list'!F23) -> #NAME? | N17: Retention | Q17: 14 | R17: Term 4 2018 | S17: Victoria Point State School | T17: Teacher / Student Game | U17: Dec C | AB17: Kururrungku Catholic Education Centre
C18: =TRIM('Staff list'!B24)&" "&TRIM('Staff list'!E24) | D18: =IF('Staff list'!F24=0,_xludf.NA,'Staff list'!F24) -> #NAME? | N18: Scholarships | Q18: 15 | R18: Term 1 2019 | S18: Warruwi School | T18: Active Monitoring | U18: DISE | AB18: Mamaruni School
C19: =TRIM('Staff list'!B25)&" "&TRIM('Staff list'!E25) | D19: =IF('Staff list'!F25=0,_xludf.NA,'Staff list'!F25) -> #NAME? | N19: School Readiness | Q19: 16 | R19: Term 2 2019 | S19: Western Cape College - Mapoon | T19: Thermometer Chart | U19: DISE | AB19: Meekatharra District High School
C20: =TRIM('Staff list'!B26)&" "&TRIM('Staff list'!E26) | D20: =IF('Staff list'!F26=0,_xludf.NA,'Staff list'!F26) -> #NAME? | N20: Secondary Transition | Q20: 17 | R20: Term 3 2019 | S20: Yipirinya School | T20: Transitions | U20: Comp B2 | AB20: Milikapiti School
C21: =TRIM('Staff list'!B27)&" "&TRIM('Staff list'!E27) | D21: =IF('Staff list'!F27=0,_xludf.NA,'Staff list'!F27) -> #NAME? | N21: Special Needs Secondary School | Q21: 18 | R21: Term 4 2019 | T21: Vocabulary Firming | U21: Comp C | AB21: Milyakburra School
C22: =TRIM('Staff list'!B28)&" "&TRIM('Staff list'!E28) | D22: =IF('Staff list'!F28=0,_xludf.NA,'Staff list'!F28) -> #NAME? | N22: Student Education Trust (SET) | Q22: 19 | R22: Term 1 2020 | T22: Directed Workchecks | U22: Comp B2 | AB22: Minyerri School
C23: =TRIM('Staff list'!B29)&" "&TRIM('Staff list'!E29) | D23: =IF('Staff list'!F29=0,_xludf.NA,'Staff list'!F29) -> #NAME? | Q23: 20 | R23: Term 2 2020 | T23: Correction Procedure | U23: Comp C | AB23: Mount Magnet District High School
C24: =TRIM('Staff list'!B30)&" "&TRIM('Staff list'!E30) | D24: =IF('Staff list'!F30=0,_xludf.NA,'Staff list'!F30) -> #NAME? | Q24: 21 | R24: Term 3 2020 | T24: Individual Turns | U24: Dec A | AB24: Nganambala School
C25: =TRIM('Staff list'!B31)&" "&TRIM('Staff list'!E31) | D25: =IF('Staff list'!F31=0,_xludf.NA,'Staff list'!F31) -> #NAME? | Q25: 22 | R25: Term 4 2020 | T25: Lesson Progress Chart | U25: Dec B1 | AB25: Nganmarriyanga School
C26: =TRIM('Staff list'!B32)&" "&TRIM('Staff list'!E32) | D26: =IF('Staff list'!F32=0,_xludf.NA,'Staff list'!F32) -> #NAME? | Q26: 23 | R26: Term 1 2021 | T26: Mastery Test / Checkout | U26: Dec B2 | AB26: Ntaria School
C27: =TRIM('Staff list'!B33)&" "&TRIM('Staff list'!E33) | D27: =IF('Staff list'!F33=0,_xludf.NA,'Staff list'!F33) -> #NAME? | Q27: 24 | R27: Term 2 2021 | T27: Part-whole Firming | U27: Dec C | AB27: Nullagine Primary School
C28: =TRIM('Staff list'!B34)&" "&TRIM('Staff list'!E34) | D28: =IF('Staff list'!F34=0,_xludf.NA,'Staff list'!F34) -> #NAME? | Q28: 25 | R28: Term 3 2021 | T28: Data Analysis Training | U28: DISE | AB28: Numbulwar School
C29: =TRIM('Staff list'!B35)&" "&TRIM('Staff list'!E35) | D29: =IF('Staff list'!F35=0,_xludf.NA,'Staff list'!F35) -> #NAME? | Q29: 26 | R29: Term 4 2021 | T29: Electronic Data Collection Training | U29: DISTAR Language | AB29: One Arm Point Remote Community School
Q30: 27 | R30: Term 1 2022 | U30: Ess. for Writing | AB30: Our Lady of the Sacred Heart School
Q31: 28 | R31: Term 2 2022 | U31: EW 1 | AB31: Papunya School
Q32: 29 | R32: Term 3 2022 | U32: EW 2 | AB32: Peppimenarti School
Q33: 30 | R33: Term 4 2022 | U33: Horizons | AB33: Pularumpi School
Q34: 31 | R34: Term 1 2023 | U34: Kit 1 | AB34: Rawa Community School (Kunawarritji)
Q35: 32 | R35: Term 2 2023 | U35: Kit K | AB35: Rawa Community School (Punmu)
Q36: 33 | R36: Term 3 2023 | U36: Novel Study | AB36: Sacred Heart School
Q37: 34 | R37: Term 4 2023 | U37: R/W A | AB37: St Mary Star Of The Sea Catholic School
Q38: 35 | R38: Term 1 2024 | U38: R/W B | AB38: Strelley Community School
Q39: 36 | R39: Term 2 2024 | U39: R/W C | AB39: Tiwi College
Q40: 37 | R40: Term 3 2024 | U40: Rewards Int | AB40: Warlawurru Catholic School
...

Sheet Menu
B2: School | O2: Term
B6: Cycle 1 | D6: School Professional Development
B10: Cycle 2 | D10: Classroom Coaching
B14: Cycle 3 | D14: School Data Review
B18: Cycle 4 | D18: Classroom Data Review
B22: Cycle 5 | D22: School Professional Conversations
B26: Cycle 6 | D26: Classroom Collaboration
B30: Cycle 7 | D30: School Improvement Partnership
B34: Cycle 8 | D34: Parent Classroom Engagement
B38: Completed by | E38: Teaching Coach name | L38: Percentage complete | Q38: 0.67
A40: =CELL("width",A40) -> #VALUE! | B40: =CELL("width",B40) -> #VALUE! | C40: =CELL("width",C40) -> #VALUE! | D40: =CELL("width",D40) -> #VALUE! | E40: =CELL("width",E40) -> #VALUE! | F40: =CELL("width",F40) -> #VALUE! | G40: =CELL("width",G40) -> #VALUE! | H40: =CELL("width",H40) -> #VALUE! | ... U40: =CELL("width",U40) -> #VALUE! | V40: =SUM(A40:U40) -> #VALUE!

Sheet Staff list
A1: =CELL("width",A1) -> #VALUE! | B1: =CELL("width",B1) -> #VALUE! | C1: =CELL("width",C1) -> #VALUE! | D1: =CELL("width",D1) -> #VALUE! | E1: =CELL("width",E1) -> #VALUE! | F1: =CELL("width",F1) -> #VALUE! | G1: =CELL("width",G1) -> #VALUE! | H1: =CELL("width",H1) -> #VALUE! | ... X1: =CELL("width",X1) -> #VALUE! | Y1: =SUM(A1:X1) -> #VALUE!
H3: =Menu!$E$2&" - "&REPLACE(CELL("filename",$A$1),1,FIND("]",CELL("filename",$A$1)),"")&": Term "&Menu!$R$2 -> #VALUE!
B5: Teaching Coach | H5: Coaching Principal
B7: First Name | E7: Surname | F7: Teaching staff position | H7: No. of months experience teaching at this school | I7: Total no. of months teaching experience | J7: Comment (e.g. left/joined/moved schools in week #)
B51: =AVERAGEIF(F8:G35,"Teacher",H8:H35) -> #DIV/0! | C51: Average Teacher tenure
B52: =IF(B51>4,"Yes","No") -> #DIV/0! | C52: Average Teacher tenure is greater than (X) months/years
B53: =AVERAGEIF(F8:G35,"Teacher",I8:I35) -> #DIV/0! | C53: Average Teacher experience (months)
B54: =AVERAGEIF(F8:G35,"Teaching Assistant",H8:H35) -> #DIV/0! | C54: Average Teaching Assistant tenure
B55: =IF(B54>4,"Yes","No") -> #DIV/0! | C55: Average Teaching Assistant tenure is greater than (X) months/years
B56: =AVERAGEIF(F8:G35,"Teaching Assistant",I8:I35) -> #DIV/0! | C56: Average Teaching Assistant experience (months)

Sheet C1 Training register
A1: =CELL("width",A1) -> #VALUE! | B1: =CELL("width",B1) -> #VALUE! | D1: =CELL("width",D1) -> #VALUE! | E1: =CELL("width",E1) -> #VALUE! | F1: =CELL("width",F1) -> #VALUE! | H1: =CELL("width",H1) -> #VALUE! | I1: =CELL("width",I1) -> #VALUE! | J1: =CELL("width",J1) -> #VALUE! | K1: =CELL("width",K1) -> #VALUE! | L1: =CELL("width",L1) -> #VALUE! | M1: =CELL("width",M1) -> #VALUE! | N1: =CELL("width",N1) -> #VALUE! | O1: =CELL("width",O1) -> #VALUE! | ... U1: =CELL("width",U1) -> #VALUE! | V1: =SUM(A1:U1) -> #VALUE!
G3: =Menu!$E$2&" - "&REPLACE(CELL("filename",$A$1),1,FIND("]",CELL("filename",$A$1))+3,"")&": Term "&Menu!$R$2 -> #VALUE!
B4: Participants | E4: Training Details
B5: Staff member | C5: Role | D5: √out | E5: Trainer name and role | G5: Content Area | H5: Program training type | I5: Date | J5: Hours | K5: Type | L5: Training area | M5: Content | N5: Delivery | O5: Comments
C6: =IFERROR(INDEX('Data validation'!$D$2:$D$29,MATCH(B6,'Data validation'!$C$2:$C$29,0)),"")
C7: =IFERROR(INDEX('Data validation'!$D$2:$D$29,MATCH(B7,'Data validation'!$C$2:$C$29,0)),"")
C8: =IFERROR(INDEX('Data validation'!$D$2:$D$29,MATCH(B8,'Data validation'!$C$2:$C$29,0)),"")
C9: =IFERROR(INDEX('Data validation'!$D$2:$D$29,MATCH(B9,'Data validation'!$C$2:$C$29,0)),"")
C15: =IFERROR(INDEX('Data validation'!$D$2:$D$29,MATCH(B15,'Data validation'!$C$2:$C$29,0)),"")
C16: =IFERROR(INDEX('Data validation'!$D$2:$D$29,MATCH(B16,'Data validation'!$C$2:$C$29,0)),"")
C17: =IFERROR(INDEX('Data validation'!$D$2:$D$29,MATCH(B17,'Data validation'!$C$2:$C$29,0)),"")
C18: =IFERROR(INDEX('Data validation'!$D$2:$D$29,MATCH(B18,'Data validation'!$C$2:$C$29,0)),"")
C19: =IFERROR(INDEX('Data validation'!$D$2:$D$29,MATCH(B19,'Data validation'!$C$2:$C$29,0)),"")
C20: =IFERROR(INDEX('Data validation'!$D$2:$D$29,MATCH(B20,'Data validation'!$C$2:$C$29,0)),"")
C21: =IFERROR(INDEX('Data validation'!$D$2:$D$29,MATCH(B21,'Data validation'!$C$2:$C$29,0)),"")
C22: =IFERROR(INDEX('Data validation'!$D$2:$D$29,MATCH(B22,'Data validation'!$C$2:$C$29,0)),"")
... C36: =IFERROR(INDEX('Data validation'!$D$2:$D$29,MATCH(B36,'Data validation'!$C$2:$C$29,0)),"")
B51: =COUNTIFS($D$6:$D$36,"Yes",$C$6:$C$36,"Teacher")/COUNTIF($C$6:$C$36,"Teacher") -> #DIV/0! | C51: Check out' rate for all Teachers
B52: =IF(B51=1,"Yes","No") -> #DIV/0! | C52: Check out' status for all Teachers
B53: =COUNTIFS($D$6:$D$36,"Yes",$C$6:$C$36,"Teaching Assistant")/COUNTIF($C$6:$C$36,"Teaching Assistant") -> #DIV/0! | C53: Check out' rate for all Teaching Assistants
B54: =IF(B53=1,"Yes","No") -> #DIV/0! | C54: Check out' status for all Teaching Assistants
B55: =SUMIFS($J$6:$J$36,$C$6:$C$36,"*Principal*",$C$6:$C$36,"<>*Assistant*") -> 0 | C55: Principal received (X) hours of coaching towards their instructional leaderhsip development (this term)
B56: =SUMIF($C$6:$C$36,"*Instruction Coach*",$J$6:$J$36) -> 0 | C56: Instruction Coach received (X) hours of coaching towards their instructional leaderhsip development (this term)

Sheet C1 Topic in-services
A1: =CELL("width",A1) -> #VALUE! | B1: =CELL("width",B1) -> #VALUE! | C1: =CELL("width",C1) -> #VALUE! | D1: =CELL("width",D1) -> #VALUE! | E1: =CELL("width",E1) -> #VALUE! | F1: =CELL("width",F1) -> #VALUE! | G1: =CELL("width",G1) -> #VALUE! | H1: =CELL("width",H1) -> #VALUE! | ... AO1: =CELL("width",AO1) -> #VALUE!
H3: =Menu!$E$2&CHAR(10)&REPLACE(CELL("filename",$A$1),1,FIND("]",CELL("filename",$A$1))+3,"")&": Term "&Menu!$R$2 -> #VALUE! | U3: Select teaching staff member
F10: Good work ticket system | G10: Is there a system for exchanging tickets for prizes? | U10: Yes
G11: Do students understand ticket exchange? | U11: Yes
G12: Have rules been set/defined?
G13: Have rules been communicated to students?
G14: Is specific positive praise paired with distribution of ticket?
G15: Does monitor ignore inappropriate behaviour?
G16: Are students motivated to earn tickets?
G17: Are there monitors assigned to specific areas?
G18: Does monitor move to different areas?
F20: Pacing | G20: Students perform at a high level of mastery
G21: Presentation rate is appropriate (not too fast or too slow)
G22: Think time is varied to fit the difficulty of the task
G23: Teacher moves quickly from one exercise to the next
G24: Correction procedures are implemented quickly & efficiently
G25: Effective reinforcement is provided without interruption of instruction
F27: Student test summary | G27: Information is up to date
G28: Teacher, school and group names recorded
G29: First and last names of all students recorded
G30: Date recorded if appropriate (daily COs for Decoding)
G31: Scores are recorded appropriately (# of errors, %, or time over errors)
G32: Remedies and retesting indicated by circled scores
G33: Instructor communicates names of students failing two, or more, tests to coordinator
F35: Teacher student game | G35: Explains and displays game format
G36: Awards points for retaught expectations
G37: Pairs points with specific praise statements
G38: Names behaviour not student when teacher points awarded
G39: Points awarded quickly without wordy explanations
G40: Students win 95-100% of the time
G41: Game motivates students
F43: Active monitoring | G43: Room arrangement facilitates effective monitoring
G44: Teacher actively monitors all students during IW
G45: Teacher orally reinforces correct written responses
G46: Teacher checks student work while monitoring
G47: Teacher does not provide reteaching for individual students
G48: Teacher provides group correction when needed
G49: Teacher consistently reinforces appropriate behaviour
G50: Teacher immediately corrects off-task behaviour
F52: Thermometer chart | G52: One chart is posted for each subject taught
...

Sheet C1 Training Completions
A1: =CELL("width",A1) -> #VALUE! | B1: =CELL("width",B1) -> #VALUE! | C1: =CELL("width",C1) -> #VALUE! | D1: =CELL("width",D1) -> #VALUE! | E1: =CELL("width",E1) -> #VALUE! | F1: =CELL("width",F1) -> #VALUE! | G1: =CELL("width",G1) -> #VALUE! | H1: =CELL("width",H1) -> #VALUE! | ... U1: =CELL("width",U1) -> #VALUE! | V1: =SUM(A1:U1) -> #VALUE!
J3: =Menu!$E$2&" - "&REPLACE(CELL("filename",$A$1),1,FIND("]",CELL("filename",$A$1))+3,"")&": Term "&Menu!$R$2 -> #VALUE!
C5: CLASS
C6: Training and visits
C8: Literacy | D8: Maths
E9: At least 75% of all teachers have received training in the program they are instructing
E10: At least 75% of all teachers needing practice following training have been successfully checked out
E11: At least 75% of all teachers are completing LPCs and STS forms
C13: Principal | D13: Instruction Coach
E14: Successfully completed School Leadership training
E15: Successfully completed Behaviour Management Training
E16: Ensures that staff and self are prepared for GGSA visit
E17: Meets daily with GGSA personnel during their visit—to review and prioritise problems
E18: Accompanies personnel on classroom visits
E19: Takes notes during observations
C21: All Teachers | D21: All Teaching Assistants
E22: Successfully checked out of Pre-Service Program training
E23: Successfully checked out of Behaviour Management training
E24: Successfully checked out of In Service training
C27: Resources
C29: Literacy | D29: Maths
E30: At least 75% of teaching takes place for the full time scheduled for each instructional group
E31: School has a checklist for the instructional materials required to deliver Direct Instruction
E32: School's checklist indicates has all required instructional materials
D34: School has a copy of the 8 Cycles of School Practice
C37: Administration
D39: Provided with complete, current list of school leadership and teaching staff
D40: Report of training programs and modules provided by GGSA show training requirement for each teaching staff member
D41: School has Instruction Improvement Plan completed
D42: Reconciled School Improvement Plan has been viewed and acknowledged
D43: School has a calendar showing all teaching staff scheduled to receive training
D44: School has a calendar showing assigned visits for School Improvement Coach and Expert Coach
D45: Principal's reconciled Behaviour Management Plan has been viewed and acknowledged
D46: All staff are completing the required training each term and qualified for the roles they are performing
C50: COMMUNITY
C52: Principal | D52: Community Coach
E53: Successfully completed Community Leadership training
E54: Successfully completed Strategic Conversation Training
E55: Received (X) hours of coaching and progressing their community leadership development so they can master every practice
E56: Conducted all required family engagement observations
...

Sheet C2 Teacher practice
A1: =CELL("width",A1) -> #VALUE! | B1: =CELL("width",B1) -> #VALUE! | C1: =CELL("width",C1) -> #VALUE! | D1: =CELL("width",D1) -> #VALUE! | E1: =CELL("width",E1) -> #VALUE! | F1: =CELL("width",F1) -> #VALUE! | G1: =CELL("width",G1) -> #VALUE! | H1: =CELL("width",H1) -> #VALUE! | ... V1: =CELL("width",V1) -> #VALUE! | W1: =SUM(A1:V1) -> #VALUE!
G3: Select teaching staff member
F4: =Menu!$E$2&CHAR(10)&REPLACE(CELL("filename",$A$1),1,FIND("]",CELL("filename",$A$1))+3,"")&": Term "&Menu!$R$2 -> #VALUE!
F7: CLASS
E8: Classroom organisation
E9: Use of time allocated | F9: Excellent – Teacher uses the full scheduled time (bell to bell), starting within 1-2 minutes of the set time and ending with only 1-2 minutes left. (5 points)
F10: Very Good (4 points)
F11: Good – Starts and ends on time, some parts of allocated time not used well during instruction. Time may sometimes be spent doing things other than teaching the lesson, such as extra teacher talk or off-script activities. (3 points)
F12: Fair (2 points)
F13: Poor – Class starts late and ends early (10 minutes or more). Teacher doesn’t move to the next lesson if time remains. Only teaches during the middle of the period. (1 point)
E14: Organisation and accessibility of materials | F14: Excellent – All teaching materials are at the teaching station. All student materials are ready and accessible for immediate use (e.g. on students’ desks with pages marked), and there is no fumbling or searching for materials. (5 points)
F15: Very Good (4 points)
F16: Good – Materials are accessible, but not fully prepared for use (e.g. workbooks ready, but pages not marked or prepared for immediate use on their desks). (3 points)
F17: Fair (2 points)
F18: Poor – Teacher has to search for teacher and/or student material. Teacher and/or students have trouble finding pages or other materials. (1 point)
E19: Recording of data | F19: Excellent – All data (lesson progress, mastery test scores, check-out results, independent work, remediation plans and results) are recorded accurately and daily at the earliest opportunity. (5 points)
F20: Very Good (4 points)
F21: Good – All data are recorded, but some items may be missing and/or not recorded accurately, not well organised, and/or not recorded immediately. (3 points)
F22: Fair (2 points)
F23: Poor – Little or no data are recorded or recorded only sporadically or very inaccurately. (1 point)
E25: Instructional delivery
E26: Quality and accuracy of presentation | F26: Excellent – The presentation is fluent and practiced, with appropriate words and actions, including correct pronunciations. Every step of the format is included. (5 points)
F27: Very Good (4 points)
F28: Good – Follows the script most of the time, but has occasional variation and/or times with less fluency. (3 points)
F29: Fair (2 points)
F30: Poor – Does not use the strategies and script in the presentation book and/or tries to follow the script, but has not practiced and lacks fluency. (1 point)
E31: Use of signals | F31: Excellent – Consistently uses the appropriate signals for their designated purpose. (5 points)
F32: Very Good (4 points)
F33: Good – Can use appropriate signals at the appropriate time, but may not do so consistently or in a manner that is clear to students. (3 points)
F34: Fair (2 points)
F35: Poor – Does not use signals and/or uses the wrong signals at the wrong time. (1 point)
E36: Effectiveness of signals | F36: Excellent – The five parts of presenting a signal (focus, think time, cue, one-second interval, and signal) are consistently seen with each signal presented. All students respond in unison. (5 points)
F37: Very Good (4 points)
F38: Good – Signals are used well most of the time, although occasionally the signal may not be clear. Most students respond in unison, and when they do not, the teacher recognises the issue and corrects it by improving the signal. (3 points)
F39: Fair (2 points)
F40: Poor – The parts of presenting the signal may be out of order or omitted. Presentation of signals is not consistent from one instance to the next. Students don’t know if they should respond or how. (1 point)
E41: Lesson pacing (including allowing 'think' time) | F41: Excellent – Teacher moves fluently from one task to the next, not rushing students, but also not wasting time with extra material. Teacher understands difficulty of task and varies amount of think time as appropriate. (5 points)
F42: Very Good (4 points)
F43: Good – Pacing is quick and appropriate most of the time, but the teacher may not always modify the think time as needed. Occasionally, the group may not get through a lesson in the allotted time. (3 points)
F44: Fair (2 points)
...

Sheet C2 Coaching & Observations
A1: =CELL("width",A1) -> #VALUE! | B1: =CELL("width",B1) -> #VALUE! | C1: =CELL("width",C1) -> #VALUE! | D1: =CELL("width",D1) -> #VALUE! | E1: =CELL("width",E1) -> #VALUE! | F1: =CELL("width",F1) -> #VALUE! | H1: =CELL("width",H1) -> #VALUE! | I1: =CELL("width",I1) -> #VALUE! | J1: =CELL("width",J1) -> #VALUE! | K1: =CELL("width",K1) -> #VALUE! | L1: =CELL("width",L1) -> #VALUE! | M1: =CELL("width",M1) -> #VALUE! | N1: =CELL("width",N1) -> #VALUE! | O1: =CELL("width",O1) -> #VALUE! | ... U1: =CELL("width",U1) -> #VALUE! | V1: =SUM(A1:U1) -> #VALUE!
E3: =Menu!$E$2&" - "&REPLACE(CELL("filename",$A$1),1,FIND("]",CELL("filename",$A$1))+3,"")&": Term "&Menu!$R$2 -> #VALUE!
B5: Staff Observed | C5: Observer's Position | D5: Date | E5: Content Observed | F5: Type of Observation | G5: Minutes Spent
F6: Two-minute observation
B51: =COUNTIF($C$6:$C$36,"*Principal*") -> 0 | C51: Number of classroom observations completed by the Principal this term
B52: =IF(B51>=3,"Yes","No") -> No | C52: Principal completed the (X) required number of classroom observations this term
B53: =COUNTIF($C$6:$C$36,"*Instruction Coach*") -> 0 | C53: Number of classroom observations completed by the Instruction Coach this term
B54: =IF(B53>=3,"Yes","No") -> No | C54: Instruction Coach completed the (X) required number of classroom observations this term
B55: =COUNTIF($C$6:$C$36,"*Peer Coach*") -> 0 | C55: Number of classroom observations completed by the Peer Coach this term
B56: =IF(B55>=3,"Yes","No") -> No | C56: Peer Coach completed the (X) required number of classroom observations this term

Sheet C3 Weekly Data Review meetings
A1: =CELL("width",A1) -> #VALUE! | B1: =CELL("width",B1) -> #VALUE! | C1: =CELL("width",C1) -> #VALUE! | D1: =CELL("width",D1) -> #VALUE! | E1: =CELL("width",E1) -> #VALUE! | F1: =CELL("width",F1) -> #VALUE! | G1: =CELL("width",G1) -> #VALUE! | H1: =CELL("width",H1) -> #VALUE! | ... U1: =CELL("width",U1) -> #VALUE! | V1: =SUM(A1:U1) -> #VALUE!
J3: =Menu!$E$2&" - "&REPLACE(CELL("filename",$A$1),1,FIND("]",CELL("filename",$A$1))+3,"")&": Term "&Menu!$R$2 -> #VALUE!
B5: Principal | C5: Instruction Coach
D6: Contributes and participates in Weekly Data Reviews
D7: Takes immediate action on Red Flag items.
D8: Has carried out tasks assigned in previous Weekly Data Reviews within a week
D9: Oversees weekly collection of LPCs, STSs and independent work summaries
D10: Sends data to GGSA in a timely manner
D11: Examines classroom data (LPC & STS forms) before Weekly Data Review or call
D12: Specifies problems in sufficient detail for solutions to be evident before meeting or call
D13: Works with GGSA and coaches specifying solutions
D14: Provides data that demonstrates effectiveness of solutions
B17: Principal | C17: Community Coach
D18: Principal leads case management and target setting with Community Coach and teaching faculity
D19: Provides feedback on and distribute Weekly Case Management Review report
D20: Leads Case Management Team Review
D21: Collects student High5 data forms for Principal before the Weekly Case Management Review
D22: Weekly Case Management Review report is populated and received
D23: Actions points for improving engagement in Weekly Case Management Review are documented
D24: Sets and maps case management targets for each student and shares with Teaching and Teaching Assistant
D25: Follows up with Teachers to ensure actions are taken
D26: Provides feedback on actions to be taken based on observations and data

Sheet C3 Leadership Tasks
A1: =CELL("width",A1) -> #VALUE! | B1: =CELL("width",B1) -> #VALUE! | C1: =CELL("width",C1) -> #VALUE! | D1: =CELL("width",D1) -> #VALUE! | E1: =CELL("width",E1) -> #VALUE! | F1: =CELL("width",F1) -> #VALUE! | G1: =CELL("width",G1) -> #VALUE! | H1: =CELL("width",H1) -> #VALUE! | ... V1: =CELL("width",V1) -> #VALUE! | W1: =SUM(A1:V1) -> #VALUE!
J3: =Menu!$E$2&" - "&REPLACE(CELL("filename",$A$1),1,FIND("]",CELL("filename",$A$1))+3,"")&": Term "&Menu!$R$2 -> #VALUE!
C5: CLASS
D7: Number of weeks of classroom instruction this term
D8: School Data Wall is being updated weekly by the Principal and Instruction Coach
C10: Instruction Coach
D11: Conducts assessments and identifies student grouping possibilities and, with assistance, regroups students based on tests and performance
D12: Schedules and oversees placement of new and continuing students
D13: Assists in establishing the schedule for DI and monitors classrooms to follow through on its implementation
D14: Identifies students who need additional instructional time and assists in arranging for it to happen
D15: Anticipates and updates list of needed instructional materials
D16: Communicates accomplishments of students to principal and arranges for school-wide recognition
D17: Ensures that instruction groups are homogenous and within size guidelines
D18: Number of coaching sessions conducted this term
D19: Conducts the Instruction Action plan practice weekly
C21: Principal
D22: Accompanies Teaching Coach on each visit
D23: Discovers problems, determines solutions and/or prioritises problems
D24: Notes from the behaviour management team meeting show action taken on all issues
D25: Is able to analyse student performance data
D26: Met with all parents to plan attendance improvement this term
D27: Conducts the Instruction Action plan practice weekly
D28: Facilitated the Instructional Improvement Review
D29: Conducted CSIP meeting this term
D30: Number of coaching sessions conducted this term
C32: Records sheets from weekly data reviews
D33: Are viewed and acknowledged
D34: Show Principal and Instruction Coach actions for improving instruction
D35: Show that Principal has carried out tasks assigned in previous Weekly Data Reviews
C37: Peer Coaches
D38: Number of coaching sessions conducted this term
C42: COMMUNITY
C44: Principal
D45: Able to analyse High5 reports
D46: Discusses School Data Wall in staff meetings
D47: Undertakes and documents meetings with parents to plan attendance improvement
D48: Facilitates the CSIP meeting to discuss the Community School Report
D49: Weekly and term data reviews for each student completed on time
D50: Ensure all progressed students have successfully passed the prerequisite grade level
D51: Status updates are provided on a pre defined interval and actions take place
...

Sheet C3 Placement
A1: =CELL("width",A1) -> #VALUE! | B1: =CELL("width",B1) -> #VALUE! | C1: =CELL("width",C1) -> #VALUE! | D1: =CELL("width",D1) -> #VALUE! | E1: =CELL("width",E1) -> #VALUE! | F1: =CELL("width",F1) -> #VALUE! | G1: =CELL("width",G1) -> #VALUE! | H1: =CELL("width",H1) -> #VALUE! | ... U1: =CELL("width",U1) -> #VALUE! | V1: =SUM(A1:U1) -> #VALUE!
I3: =Menu!$E$2&" - "&REPLACE(CELL("filename",$A$1),1,FIND("]",CELL("filename",$A$1))+3,"")&": Term "&Menu!$R$2 -> #VALUE!
B5: Literacy | C5: Maths
D6: All attending students have been placement tested
D7: All attending students have been placed into initial instructional groups
D8: Staff are assigned to teach each instructional group
D9: Group sizes are within recommended guidelines for all attending students
D10: Sufficient time has been scheduled for each instructional group
D11: Physical arrangement of classrooms allow for effective and efficient instruction
D12: At least 2.5 hours of instructional time has been scheduled at the school
D13: At least 1 hour instructional time has been scheduled at the school

Sheet C4 Lead Instructional Actions
A1: =CELL("width",A1) -> #VALUE! | B1: =CELL("width",B1) -> #VALUE! | C1: =CELL("width",C1) -> #VALUE! | D1: =CELL("width",D1) -> #VALUE! | E1: =CELL("width",E1) -> #VALUE! | F1: =CELL("width",F1) -> #VALUE! | G1: =CELL("width",G1) -> #VALUE! | H1: =CELL("width",H1) -> #VALUE! | ... U1: =CELL("width",U1) -> #VALUE! | V1: =SUM(A1:U1) -> #VALUE!
J3: =Menu!$E$2&" - "&REPLACE(CELL("filename",$A$1),1,FIND("]",CELL("filename",$A$1))+3,"")&": Term "&Menu!$R$2 -> #VALUE!
B5: Principal | C5: Instruction Coach
D6: Provides feedback on actions to take based on data in observation forms
D7: Follows up with Teachers to ensure actions are taken
D8: Sets and maps performance targets for each student and shares with Teacher and Teaching assistant
D9: Has over sighted each Teacher and Teaching Assistant do their Self-Checkout a minimum of twice per term
C11: All Teachers are updating their Classroom Data Wall daily

Sheet C4 Community Actions
A1: =CELL("width",A1) -> #VALUE! | B1: =CELL("width",B1) -> #VALUE! | C1: =CELL("width",C1) -> #VALUE! | D1: =CELL("width",D1) -> #VALUE! | E1: =CELL("width",E1) -> #VALUE! | F1: =CELL("width",F1) -> #VALUE! | G1: =CELL("width",G1) -> #VALUE! | H1: =CELL("width",H1) -> #VALUE! | ... AO1: =CELL("width",AO1) -> #VALUE!
H3: =[1]Menu!$E$2&CHAR(10)&REPLACE(CELL("filename",$A$1),1,FIND("]",CELL("filename",$A$1))+3,"")&": Term "&[1]Menu!$R$2 -> #VALUE! | U3: Select teaching staff member
F10: Good work ticket system | G10: Records Student Attendance
G11: Records student readiness
G12: Records student wellbeing data
G13: Records student financial information
G14: Records high school data
F16: Pacing | G16: Is the Classroom Data Wall updated daily?
G17: % of classrooms with daily updated walls
G18: Are status updates provided on a pre-defined interval and actions take place?
G19: Are strategic conversations documented and non-attendances are followed up?
G20: Are daily conversations with parents documented?
T44: Good work ticket system score
T45: Pacing score
T46: Student test summary score
T47: Teacher student game score
T48: Active monitoring score
T49: Thermometer chart score
T50: Transitions score
T51: Vocabulary firming score
T52: Conducting teacher-directed workchecks score
T53: Correction procedure score

Sheet C5 Professional Conversations
A1: =CELL("width",A1) -> #VALUE! | B1: =CELL("width",B1) -> #VALUE! | C1: =CELL("width",C1) -> #VALUE! | D1: =CELL("width",D1) -> #VALUE! | E1: =CELL("width",E1) -> #VALUE! | F1: =CELL("width",F1) -> #VALUE! | G1: =CELL("width",G1) -> #VALUE! | H1: =CELL("width",H1) -> #VALUE! | ... X1: =CELL("width",X1) -> #VALUE!
J3: =Menu!$E$2&" - "&REPLACE(CELL("filename",$A$1),1,FIND("]",CELL("filename",$A$1))+3,"")&": Term "&Menu!$R$2 -> #VALUE!
B5: CLASS
C6: Procedures have been established for the Instruction Coach and/or Principal to submit student performance data forms to the GGSA expert team
C7: Plans are in place for future GGSA expert team visits this year
C8: A system of communication has been established with the Teaching Coach beyond the Weekly Data Reviews
C9: Weekly data reviews focused on the review of student data take place each week
C11: Staff meeting notes and agendas have been viewed and acknowledged
C12: Principal's schedule and notes for participating in Professional Peer Networks are viewed and acknowledged
C13: Instruction Coach's schedule for School Professional Conversations are viewed and acknowledged
B15: COMMUNITY
C16: Principal engages with Professional Neer Network on improving school practice - Principal's schedule for meetings and presentation notes are viewed and acknowledged
C17: Principal documents professional development conversations and outcomes
C18: Community Coach's schedule for reviews are viewed at staff meetings and acknowledged
C19: Community Coach's calendar for Peer Conversation Practice is viewed and acknowledged

Sheet C5 GGSA service levels
A1: =CELL("width",A1) -> #VALUE! | B1: =CELL("width",B1) -> #VALUE! | C1: =CELL("width",C1) -> #VALUE! | D1: =CELL("width",D1) -> #VALUE! | E1: =CELL("width",E1) -> #VALUE! | F1: =CELL("width",F1) -> #VALUE! | G1: =CELL("width",G1) -> #VALUE! | H1: =CELL("width",H1) -> #VALUE! | ... T1: =CELL("width",T1) -> #VALUE! | U1: =SUM(A1:T1) -> #VALUE!
I3: =Menu!$E$2&" - "&REPLACE(CELL("filename",$A$1),1,FIND("]",CELL("filename",$A$1))+3,"")&": Term "&Menu!$R$2 -> #VALUE!
B5: CLASS
B6: Support by GGSA Expert Team Members
B7: Coaching Principal | C7: Behaviour Expert | D7: Program Manager | E7: Teaching Coach | F7: Other
G8: Number of onsite days
G9: Number of peer practices/professional development delivered (Literacy)
G10: Number of peer practices/professional development delivered (Maths)
G11: Number of classroom visits
G12: Number of strategic planning/school review discussions facilitated
G13: Number of off site contacts with the school
G14: Number of teachers observed (Literacy)
G15: Number of teachers observed (Maths)
G16: Number of staff members coached (Literacy)
G17: Number of staff members coached (Maths)
G18: Number of Weekly Data Reviews attended
G19: Number of Weekly Data Review summaries delivered
B21: NOTE: TC's please ensure that you make contact with the Experts that have communicated or visited the school have entered their data
D23: COMMUNITY
B24: Implementation Manager | C24: Content Expert
D25: Number of onsite days
D26: Number of peer practices/professional development delivered
D27: Number of classroom visits
D28: Number of strategic planning/school review discussions facilitated
D29: Number of off site contacts with the school
D30: Number of teachers observed
D31: Number of staff members coached

Sheet C6 Peer Conversations
A1: =CELL("width",A1) -> #VALUE! | B1: =CELL("width",B1) -> #VALUE! | C1: =CELL("width",C1) -> #VALUE! | D1: =CELL("width",D1) -> #VALUE! | E1: =CELL("width",E1) -> #VALUE! | F1: =CELL("width",F1) -> #VALUE! | G1: =CELL("width",G1) -> #VALUE! | H1: =CELL("width",H1) -> #VALUE! | I1: =CELL("width",I1) -> #VALUE! | N1: =CELL("width",N1) -> #VALUE! | O1: =CELL("width",O1) -> #VALUE! | P1: =CELL("width",P1) -> #VALUE! | Q1: =CELL("width",Q1) -> #VALUE! | R1: =CELL("width",R1) -> #VALUE! | S1: =CELL("width",S1) -> #VALUE! | T1: =CELL("width",T1) -> #VALUE! | U1: =CELL("width",U1) -> #VALUE! | ... AJ1: =CELL("width",AJ1) -> #VALUE!
G3: =[2]Menu!$E$2&CHAR(10)&REPLACE(CELL("filename",$A$1),1,FIND("]",CELL("filename",$A$1))+3,"")&": Term "&[2]Menu!$R$2 -> #VALUE! | P3: Select teaching staff member
F9: Conversation lead by | J9: Type | L9: Topic | N9: Date
D31: Instruction Coach's calendar for Peer Lesson Practice is viewed and acknowledged
D32: School calendar shows that Teaching Assistants regularly participate in Peer Classroom Observations

Sheet C6 Leader Conversations
A1: =CELL("width",A1) -> #VALUE! | B1: =CELL("width",B1) -> #VALUE! | C1: =CELL("width",C1) -> #VALUE! | D1: =CELL("width",D1) -> #VALUE! | E1: =CELL("width",E1) -> #VALUE! | F1: =CELL("width",F1) -> #VALUE! | G1: =CELL("width",G1) -> #VALUE! | H1: =CELL("width",H1) -> #VALUE! | I1: =CELL("width",I1) -> #VALUE! | N1: =CELL("width",N1) -> #VALUE! | O1: =CELL("width",O1) -> #VALUE! | P1: =CELL("width",P1) -> #VALUE! | Q1: =CELL("width",Q1) -> #VALUE! | R1: =CELL("width",R1) -> #VALUE! | S1: =CELL("width",S1) -> #VALUE! | T1: =CELL("width",T1) -> #VALUE! | U1: =CELL("width",U1) -> #VALUE! | ... AO1: =CELL("width",AO1) -> #VALUE!
G3: =[2]Menu!$E$2&CHAR(10)&REPLACE(CELL("filename",$A$1),1,FIND("]",CELL("filename",$A$1))+3,"")&": Term "&[2]Menu!$R$2 -> #VALUE! | P3: Attendees
F9: Conversation lead by | J9: Type | L9: Topic | N9: Date
D31: Instruction Coach's calendar for Peer Lesson Practice is viewed and acknowledged
D32: School calendar shows that Teaching Assistants regularly participate in Peer Classroom Observations

Sheet C7 Leading Partnership
A1: =CELL("width",A1) -> #VALUE! | B1: =CELL("width",B1) -> #VALUE! | C1: =CELL("width",C1) -> #VALUE! | D1: =CELL("width",D1) -> #VALUE! | E1: =CELL("width",E1) -> #VALUE! | F1: =CELL("width",F1) -> #VALUE! | G1: =CELL("width",G1) -> #VALUE! | H1: =CELL("width",H1) -> #VALUE! | ... U1: =CELL("width",U1) -> #VALUE! | V1: =SUM(A1:U1) -> #VALUE!
J3: =Menu!$E$2&" - "&REPLACE(CELL("filename",$A$1),1,FIND("]",CELL("filename",$A$1))+3,"")&": Term "&Menu!$R$2 -> #VALUE!
B5: CLASS
C6: Principal creates and promotes the School and Family Compact
C7: Principal's reconciled School Improvement Plan actions are viewed and acknowledged
C8: Principal's agenda from Community-School Partnership is viewed and acknowledged
C9: Student attendance data is viewed and acknowledged
C10: Principal's notes from Community-School Partnership are viewed and acknowledged
C12: Percent student attendance (this term)
C13: Percent student attendance (previous term)
C15: Number of Behaviour management issues this term
B18: COMMUNITY
C19: Principal creates and promotes the School and Family Compact
C20: Principal's manages School Improvement Plan including actions
C21: Principal hosts quarterly Community-School Partnership meetings
C22: Community Coach supports quarterly Community-School Partnership meetings
C23: Student outcomes are reviewed quarterly by CSIP members
C24: Principal involves CSIP members for Case Review of Attendance and Behaviour
C25: Principal leads CSIP meetings to run a strategic planning session to further develop and enhance schools' education offering
B54: =IF(B12-B13>0,"Yes","No") -> No | C54: Student attendance has increased since the previous term
B55: =IF(OR(ISBLANK(B12),ISBLANK(B13)),NA(),B12-B13) -> #N/A | C55: Increase in student attendance since previous term
B56: =B15/('C3 Leadership Tasks'!C7*5) -> #DIV/0! | C56: School had less than (X) behaviour management issues per student study day

Sheet C8 Parent visits
A1: =CELL("width",A1) -> #VALUE! | B1: =CELL("width",B1) -> #VALUE! | C1: =CELL("width",C1) -> #VALUE! | D1: =CELL("width",D1) -> #VALUE! | E1: =CELL("width",E1) -> #VALUE! | F1: =CELL("width",F1) -> #VALUE! | G1: =CELL("width",G1) -> #VALUE! | H1: =CELL("width",H1) -> #VALUE! | ... U1: =CELL("width",U1) -> #VALUE! | V1: =SUM(A1:U1) -> #VALUE!
I3: =Menu!$E$2&" - "&REPLACE(CELL("filename",$A$1),1,FIND("]",CELL("filename",$A$1))+3,"")&": Term "&Menu!$R$2 -> #VALUE!
B5: CLASS
C6: Number of documented Parent Classroom Visits
C7: Number of documented Parent Conversations
C8: Number of documented Parent Conversations on DI
C9: Teachers created and distributed Student Progress Reports this term
C10: Teaching team has met with the parents of every student this term
C11: Teaching team has a schedule populated with parent classroom visits and parent discussions
C12: Principal met with every parent at least once this term
B14: COMMUNITY
C15: A minimum of two parent/student conversations has occurred per student per term
C16: Number of documented Parent Conversations
C17: Teacher has a schedule populated with parent classroom ivisits and parent discussions for all classes and students
C18: Every child has a parent participate in requisite classroom visits each term
C19: Teacher conducts positive home visits each week
C20: Teachers created and distributed Student Progress Reports for all students this term
C21: Number of students with SET account/total number of students
